BEGIN:VCALENDAR
VERSION:2.0
PRODID:-//Plone.org//NONSGML plone.app.event//EN
X-WR-TIMEZONE:US/Central
BEGIN:VEVENT
SUMMARY:Adult Crafternoons
DTSTART;TZID=US/Central:20230322T130000
DTEND;TZID=US/Central:20230322T143000
DTSTAMP:20260422T100034Z
UID:6c2ab27b1a0e4df283f34163a665b629@saas_stack_varnish:6080
RRULE:FREQ=WEEKLY;COUNT=42;BYDAY=WE
EXDATE;TZID=US/Central:20220907T000000,20220914T000000,20220921T000000,202
 20928T000000,20221005T000000,20221012T000000,20221019T000000,20221026T0000
 00,20221102T000000,20221109T000000,20230419T000000,20230426T000000
CONTACT:Sandra Davis\, 9365985522\, fbbl.sandra@yahoo.com
CREATED:20220604T193050Z
DESCRIPTION:Craft time for adults starting at 1 p.m.
LAST-MODIFIED:20230412T225034Z
LOCATION:Library Redditt Room
URL:https://www.centerlibrary.org/news-events/adult-crafternoons
END:VEVENT
BEGIN:VTIMEZONE
TZID:US/Central
X-LIC-LOCATION:US/Central
BEGIN:DAYLIGHT
DTSTART:20230312T030000
TZNAME:CDT
TZOFFSETFROM:-0600
TZOFFSETTO:-0500
END:DAYLIGHT
END:VTIMEZONE
END:VCALENDAR
